View In:
ArcGIS JavaScript
ArcGIS Online Map Viewer
ArcGIS Earth
ArcMap
View Footprint In:
ArcGIS Online Map Viewer
Service Description: Rasters
Name: Rasters/Ortos_AVE
Description: Rasters
Single Fused Map Cache: false
Extent:
XMin: -19199.882733162493
YMin: 183999.8758324422
XMax: -6399.8827331624925
YMax: 193999.8758324422
Spatial Reference: 102161
(102161)
Initial Extent:
XMin: -19199.882733162493
YMin: 183999.8758324422
XMax: -6399.8827331624925
YMax: 193999.8758324422
Spatial Reference: 102161
(102161)
Full Extent:
XMin: -19199.882733162493
YMin: 183999.8758324422
XMax: -6399.8827331624925
YMax: 193999.8758324422
Spatial Reference: 102161
(102161)
Pixel Size X: 0.25
Pixel Size Y: 0.25
Band Count: 3
Pixel Type: U8
RasterFunction Infos: {"rasterFunctionInfos": [{
"name": "None",
"description": "",
"help": ""
}]}
Mensuration Capabilities: Basic
Has Histograms: true
Has Colormap: false
Has Multi Dimensions : false
Rendering Rule:
Min Scale: 0
Max Scale: 0
Copyright Text:
Service Data Type: esriImageServiceDataTypeRGB
Min Values: 0, 0, 0
Max Values: 255, 255, 255
Mean Values: 141.12238021484376, 130.04315107877605, 97.44605640755208
Standard Deviation Values: 48.51580528868337, 44.84135151875453, 43.93728010704617
Object ID Field:
Fields:
None
Default Mosaic Method: Center
Allowed Mosaic Methods:
SortField:
SortValue: null
Mosaic Operator: First
Default Compression Quality: 75
Default Resampling Method: Bilinear
Max Record Count: null
Max Image Height: 4100
Max Image Width: 15000
Max Download Image Count: null
Max Mosaic Image Count: null
Allow Raster Function: true
Allow Compute TiePoints: false
Supports Statistics: false
Supports Advanced Queries: false
Use StandardizedQueries: true
Raster Type Infos:
Name: Raster Dataset
Description: Supports all ArcGIS Raster Datasets
Help:
Has Raster Attribute Table: false
Edit Fields Info: null
Ownership Based AccessControl For Rasters: null
Child Resources:
Info
Histograms
Key Properties
Legend
MultiDimensionalInfo
rasterFunctionInfos
Supported Operations:
Export Image
Identify
Measure
Compute Histograms
Compute Statistics Histograms
Get Samples
Compute Class Statistics
Query Boundary