{
 "currentVersion": 10.61,
 "serviceDescription": "Rasters",
 "name": "Rasters/Ortos_AVE",
 "description": "Rasters",
 "extent": {
  "xmin": -19199.882733162493,
  "ymin": 183999.8758324422,
  "xmax": -6399.8827331624925,
  "ymax": 193999.8758324422,
  "spatialReference": {
   "wkid": 102161,
   "latestWkid": 102161
  }
 },
 "initialExtent": {
  "xmin": -19199.882733162493,
  "ymin": 183999.8758324422,
  "xmax": -6399.8827331624925,
  "ymax": 193999.8758324422,
  "spatialReference": {
   "wkid": 102161,
   "latestWkid": 102161
  }
 },
 "fullExtent": {
  "xmin": -19199.882733162493,
  "ymin": 183999.8758324422,
  "xmax": -6399.8827331624925,
  "ymax": 193999.8758324422,
  "spatialReference": {
   "wkid": 102161,
   "latestWkid": 102161
  }
 },
 "pixelSizeX": 0.25,
 "pixelSizeY": 0.25,
 "bandCount": 3,
 "pixelType": "U8",
 "minPixelSize": 0,
 "maxPixelSize": 0,
 "copyrightText": "",
 "serviceDataType": "esriImageServiceDataTypeRGB",
 "minValues": [
  0,
  0,
  0
 ],
 "maxValues": [
  255,
  255,
  255
 ],
 "meanValues": [
  141.12238021484376,
  130.04315107877605,
  97.44605640755208
 ],
 "stdvValues": [
  48.51580528868337,
  44.84135151875453,
  43.93728010704617
 ],
 "objectIdField": "",
 "fields": [],
 "capabilities": "Image,Metadata,Mensuration",
 "defaultMosaicMethod": "Center",
 "allowedMosaicMethods": "",
 "sortField": "",
 "sortValue": null,
 "mosaicOperator": "First",
 "defaultCompressionQuality": 75,
 "defaultResamplingMethod": "Bilinear",
 "maxImageHeight": 4100,
 "maxImageWidth": 15000,
 "allowRasterFunction": true,
 "rasterFunctionInfos": [
  {
   "name": "None",
   "description": "",
   "help": ""
  }
 ],
 "rasterTypeInfos": [
  {
   "name": "Raster Dataset",
   "description": "Supports all ArcGIS Raster Datasets",
   "help": ""
  }
 ],
 "mensurationCapabilities": "Basic",
 "hasHistograms": true,
 "hasColormap": false,
 "hasRasterAttributeTable": false,
 "minScale": 0,
 "maxScale": 0,
 "exportTilesAllowed": false,
 "hasMultidimensions": false,
 "supportsStatistics": false,
 "supportsAdvancedQueries": false,
 "editFieldsInfo": null,
 "ownershipBasedAccessControlForRasters": null,
 "allowComputeTiePoints": false,
 "useStandardizedQueries": true,
 "advancedQueryCapabilities": {
  "useStandardizedQueries": true,
  "supportsStatistics": false,
  "supportsOrderBy": false,
  "supportsDistinct": false,
  "supportsPagination": false
 },
 "spatialReference": {
  "wkid": 102161,
  "latestWkid": 102161
 }
}
