View In:
ArcGIS JavaScript
ArcGIS Online Map Viewer
ArcGIS Earth
ArcMap
View Footprint In:
ArcGIS Online Map Viewer
Service Description: Rasters
Name: Rasters/CartaGeologica
Description: Rasters
Single Fused Map Cache: false
Extent:
XMin: 161117.00780973677
YMin: 471433.98506748676
XMax: 205806.7005994888
YMax: 503537.32172212005
Spatial Reference: 102164
(102164)
Initial Extent:
XMin: 161117.00780973677
YMin: 471433.98506748676
XMax: 205806.7005994888
YMax: 503537.32172212005
Spatial Reference: 102164
(102164)
Full Extent:
XMin: 161117.00780973677
YMin: 471433.98506748676
XMax: 205806.7005994888
YMax: 503537.32172212005
Spatial Reference: 102164
(102164)
Pixel Size X: 4.2781632002443075
Pixel Size Y: 4.2781632002443075
Band Count: 3
Pixel Type: U8
RasterFunction Infos: {"rasterFunctionInfos": [{
"name": "None",
"description": "",
"help": ""
}]}
Mensuration Capabilities: Basic
Has Histograms: true
Has Colormap: false
Has Multi Dimensions : false
Rendering Rule:
Min Scale: 0
Max Scale: 0
Copyright Text:
Service Data Type: esriImageServiceDataTypeRGB
Min Values: 0, 0, 0
Max Values: 255, 255, 255
Mean Values: 219.434121929777, 208.5684180937118, 193.88948958775882
Standard Deviation Values: 34.83954722942054, 39.82989854337447, 47.002007756489355
Object ID Field:
Fields:
None
Default Mosaic Method: Center
Allowed Mosaic Methods:
SortField:
SortValue: null
Mosaic Operator: First
Default Compression Quality: 75
Default Resampling Method: Bilinear
Max Record Count: null
Max Image Height: 4100
Max Image Width: 15000
Max Download Image Count: null
Max Mosaic Image Count: null
Allow Raster Function: true
Allow Compute TiePoints: false
Supports Statistics: false
Supports Advanced Queries: false
Use StandardizedQueries: true
Raster Type Infos:
Name: Raster Dataset
Description: Supports all ArcGIS Raster Datasets
Help:
Has Raster Attribute Table: false
Edit Fields Info: null
Ownership Based AccessControl For Rasters: null
Child Resources:
Info
Histograms
Key Properties
Legend
MultiDimensionalInfo
rasterFunctionInfos
Supported Operations:
Export Image
Identify
Measure
Compute Histograms
Compute Statistics Histograms
Get Samples
Compute Class Statistics
Query Boundary