{
 "currentVersion": 10.61,
 "serviceDescription": "Rasters",
 "name": "Rasters/CartaGeologica",
 "description": "Rasters",
 "extent": {
  "xmin": 161117.00780973677,
  "ymin": 471433.98506748676,
  "xmax": 205806.7005994888,
  "ymax": 503537.32172212005,
  "spatialReference": {
   "wkid": 102164,
   "latestWkid": 102164
  }
 },
 "initialExtent": {
  "xmin": 161117.00780973677,
  "ymin": 471433.98506748676,
  "xmax": 205806.7005994888,
  "ymax": 503537.32172212005,
  "spatialReference": {
   "wkid": 102164,
   "latestWkid": 102164
  }
 },
 "fullExtent": {
  "xmin": 161117.00780973677,
  "ymin": 471433.98506748676,
  "xmax": 205806.7005994888,
  "ymax": 503537.32172212005,
  "spatialReference": {
   "wkid": 102164,
   "latestWkid": 102164
  }
 },
 "pixelSizeX": 4.2781632002443075,
 "pixelSizeY": 4.2781632002443075,
 "bandCount": 3,
 "pixelType": "U8",
 "minPixelSize": 0,
 "maxPixelSize": 0,
 "copyrightText": "",
 "serviceDataType": "esriImageServiceDataTypeRGB",
 "minValues": [
  0,
  0,
  0
 ],
 "maxValues": [
  255,
  255,
  255
 ],
 "meanValues": [
  219.434121929777,
  208.5684180937118,
  193.88948958775882
 ],
 "stdvValues": [
  34.83954722942054,
  39.82989854337447,
  47.002007756489355
 ],
 "objectIdField": "",
 "fields": [],
 "capabilities": "Image,Metadata,Mensuration",
 "defaultMosaicMethod": "Center",
 "allowedMosaicMethods": "",
 "sortField": "",
 "sortValue": null,
 "mosaicOperator": "First",
 "defaultCompressionQuality": 75,
 "defaultResamplingMethod": "Bilinear",
 "maxImageHeight": 4100,
 "maxImageWidth": 15000,
 "allowRasterFunction": true,
 "rasterFunctionInfos": [
  {
   "name": "None",
   "description": "",
   "help": ""
  }
 ],
 "rasterTypeInfos": [
  {
   "name": "Raster Dataset",
   "description": "Supports all ArcGIS Raster Datasets",
   "help": ""
  }
 ],
 "mensurationCapabilities": "Basic",
 "hasHistograms": true,
 "hasColormap": false,
 "hasRasterAttributeTable": false,
 "minScale": 0,
 "maxScale": 0,
 "exportTilesAllowed": false,
 "hasMultidimensions": false,
 "supportsStatistics": false,
 "supportsAdvancedQueries": false,
 "editFieldsInfo": null,
 "ownershipBasedAccessControlForRasters": null,
 "allowComputeTiePoints": false,
 "useStandardizedQueries": true,
 "advancedQueryCapabilities": {
  "useStandardizedQueries": true,
  "supportsStatistics": false,
  "supportsOrderBy": false,
  "supportsDistinct": false,
  "supportsPagination": false
 },
 "spatialReference": {
  "wkid": 102164,
  "latestWkid": 102164
 }
}
