View In:
ArcGIS JavaScript
ArcGIS Online Map Viewer
ArcGIS Earth
ArcMap
View Footprint In:
ArcGIS Online Map Viewer
Service Description: PDM
Name: PDM/PlantaOrdenamentoZonamentoAcustico
Description: PDM
Single Fused Map Cache: false
Extent:
XMin: -16314.725568463382
YMin: 185766.6540301811
XMax: -9453.516381084926
YMax: 192959.3655496413
Spatial Reference: PROJCS["ETRS89_Portugal_TM06",GEOGCS["GCS_ETRS_1989",DATUM["D_ETRS_1989",SPHEROID["GRS_1980",6378137.0,298.257222101]],PRIMEM["Greenwich",0.0],UNIT["Degree",0.0174532925199433]],PROJECTION["Transverse_Mercator"],PARAMETER["false_easting",0.0],PARAMETER["false_northing",0.0],PARAMETER["central_meridian",-8.133108333333334],PARAMETER["scale_factor",1.0],PARAMETER["latitude_of_origin",39.66825833333333],UNIT["Meter",1.0]]
Initial Extent:
XMin: -16314.725568463382
YMin: 185766.6540301811
XMax: -9453.516381084926
YMax: 192959.3655496413
Spatial Reference: PROJCS["ETRS89_Portugal_TM06",GEOGCS["GCS_ETRS_1989",DATUM["D_ETRS_1989",SPHEROID["GRS_1980",6378137.0,298.257222101]],PRIMEM["Greenwich",0.0],UNIT["Degree",0.0174532925199433]],PROJECTION["Transverse_Mercator"],PARAMETER["false_easting",0.0],PARAMETER["false_northing",0.0],PARAMETER["central_meridian",-8.133108333333334],PARAMETER["scale_factor",1.0],PARAMETER["latitude_of_origin",39.66825833333333],UNIT["Meter",1.0]]
Full Extent:
XMin: -16314.725568463382
YMin: 185766.6540301811
XMax: -9453.516381084926
YMax: 192959.3655496413
Spatial Reference: PROJCS["ETRS89_Portugal_TM06",GEOGCS["GCS_ETRS_1989",DATUM["D_ETRS_1989",SPHEROID["GRS_1980",6378137.0,298.257222101]],PRIMEM["Greenwich",0.0],UNIT["Degree",0.0174532925199433]],PROJECTION["Transverse_Mercator"],PARAMETER["false_easting",0.0],PARAMETER["false_northing",0.0],PARAMETER["central_meridian",-8.133108333333334],PARAMETER["scale_factor",1.0],PARAMETER["latitude_of_origin",39.66825833333333],UNIT["Meter",1.0]]
Pixel Size X: 1.2701238777079704
Pixel Size Y: 1.270123877707968
Band Count: 3
Pixel Type: U8
RasterFunction Infos: {"rasterFunctionInfos": [{
"name": "None",
"description": "",
"help": ""
}]}
Mensuration Capabilities: Basic
Has Histograms: true
Has Colormap: false
Has Multi Dimensions : false
Rendering Rule:
Min Scale: 0
Max Scale: 0
Copyright Text:
Service Data Type: esriImageServiceDataTypeRGB
Min Values: 0, 0, 0
Max Values: 255, 255, 255
Mean Values: 188.1374151370544, 187.60528602911305, 182.8167868279384
Standard Deviation Values: 95.26399241679124, 94.61217564301627, 93.83856702343394
Object ID Field:
Fields:
None
Default Mosaic Method: Center
Allowed Mosaic Methods:
SortField:
SortValue: null
Mosaic Operator: First
Default Compression Quality: 75
Default Resampling Method: Bilinear
Max Record Count: null
Max Image Height: 4100
Max Image Width: 15000
Max Download Image Count: null
Max Mosaic Image Count: null
Allow Raster Function: true
Allow Compute TiePoints: false
Supports Statistics: false
Supports Advanced Queries: false
Use StandardizedQueries: true
Raster Type Infos:
Name: Raster Dataset
Description: Supports all ArcGIS Raster Datasets
Help:
Has Raster Attribute Table: false
Edit Fields Info: null
Ownership Based AccessControl For Rasters: null
Child Resources:
Info
Histograms
Key Properties
Legend
MultiDimensionalInfo
rasterFunctionInfos
Supported Operations:
Export Image
Identify
Measure
Compute Histograms
Compute Statistics Histograms
Get Samples
Compute Class Statistics
Query Boundary