{
 "currentVersion": 10.61,
 "serviceDescription": "PDM",
 "name": "PDM/PlantaOrdenamentoZonamentoAcustico",
 "description": "PDM",
 "extent": {
  "xmin": -16314.725568463382,
  "ymin": 185766.6540301811,
  "xmax": -9453.516381084926,
  "ymax": 192959.3655496413,
  "spatialReference": {
   "wkt": "PROJCS[\"ETRS89_Portugal_TM06\",GEOGCS[\"GCS_ETRS_1989\",DATUM[\"D_ETRS_1989\",SPHEROID[\"GRS_1980\",6378137.0,298.257222101]],PRIMEM[\"Greenwich\",0.0],UNIT[\"Degree\",0.0174532925199433]],PROJECTION[\"Transverse_Mercator\"],PARAMETER[\"false_easting\",0.0],PARAMETER[\"false_northing\",0.0],PARAMETER[\"central_meridian\",-8.133108333333334],PARAMETER[\"scale_factor\",1.0],PARAMETER[\"latitude_of_origin\",39.66825833333333],UNIT[\"Meter\",1.0]]"
  }
 },
 "initialExtent": {
  "xmin": -16314.725568463382,
  "ymin": 185766.6540301811,
  "xmax": -9453.516381084926,
  "ymax": 192959.3655496413,
  "spatialReference": {
   "wkt": "PROJCS[\"ETRS89_Portugal_TM06\",GEOGCS[\"GCS_ETRS_1989\",DATUM[\"D_ETRS_1989\",SPHEROID[\"GRS_1980\",6378137.0,298.257222101]],PRIMEM[\"Greenwich\",0.0],UNIT[\"Degree\",0.0174532925199433]],PROJECTION[\"Transverse_Mercator\"],PARAMETER[\"false_easting\",0.0],PARAMETER[\"false_northing\",0.0],PARAMETER[\"central_meridian\",-8.133108333333334],PARAMETER[\"scale_factor\",1.0],PARAMETER[\"latitude_of_origin\",39.66825833333333],UNIT[\"Meter\",1.0]]"
  }
 },
 "fullExtent": {
  "xmin": -16314.725568463382,
  "ymin": 185766.6540301811,
  "xmax": -9453.516381084926,
  "ymax": 192959.3655496413,
  "spatialReference": {
   "wkt": "PROJCS[\"ETRS89_Portugal_TM06\",GEOGCS[\"GCS_ETRS_1989\",DATUM[\"D_ETRS_1989\",SPHEROID[\"GRS_1980\",6378137.0,298.257222101]],PRIMEM[\"Greenwich\",0.0],UNIT[\"Degree\",0.0174532925199433]],PROJECTION[\"Transverse_Mercator\"],PARAMETER[\"false_easting\",0.0],PARAMETER[\"false_northing\",0.0],PARAMETER[\"central_meridian\",-8.133108333333334],PARAMETER[\"scale_factor\",1.0],PARAMETER[\"latitude_of_origin\",39.66825833333333],UNIT[\"Meter\",1.0]]"
  }
 },
 "pixelSizeX": 1.2701238777079704,
 "pixelSizeY": 1.270123877707968,
 "bandCount": 3,
 "pixelType": "U8",
 "minPixelSize": 0,
 "maxPixelSize": 0,
 "copyrightText": "",
 "serviceDataType": "esriImageServiceDataTypeRGB",
 "minValues": [
  0,
  0,
  0
 ],
 "maxValues": [
  255,
  255,
  255
 ],
 "meanValues": [
  188.1374151370544,
  187.60528602911305,
  182.8167868279384
 ],
 "stdvValues": [
  95.26399241679124,
  94.61217564301627,
  93.83856702343394
 ],
 "objectIdField": "",
 "fields": [],
 "capabilities": "Image,Metadata,Mensuration",
 "defaultMosaicMethod": "Center",
 "allowedMosaicMethods": "",
 "sortField": "",
 "sortValue": null,
 "mosaicOperator": "First",
 "defaultCompressionQuality": 75,
 "defaultResamplingMethod": "Bilinear",
 "maxImageHeight": 4100,
 "maxImageWidth": 15000,
 "allowRasterFunction": true,
 "rasterFunctionInfos": [
  {
   "name": "None",
   "description": "",
   "help": ""
  }
 ],
 "rasterTypeInfos": [
  {
   "name": "Raster Dataset",
   "description": "Supports all ArcGIS Raster Datasets",
   "help": ""
  }
 ],
 "mensurationCapabilities": "Basic",
 "hasHistograms": true,
 "hasColormap": false,
 "hasRasterAttributeTable": false,
 "minScale": 0,
 "maxScale": 0,
 "exportTilesAllowed": false,
 "hasMultidimensions": false,
 "supportsStatistics": false,
 "supportsAdvancedQueries": false,
 "editFieldsInfo": null,
 "ownershipBasedAccessControlForRasters": null,
 "allowComputeTiePoints": false,
 "useStandardizedQueries": true,
 "advancedQueryCapabilities": {
  "useStandardizedQueries": true,
  "supportsStatistics": false,
  "supportsOrderBy": false,
  "supportsDistinct": false,
  "supportsPagination": false
 },
 "spatialReference": {
  "wkt": "PROJCS[\"ETRS89_Portugal_TM06\",GEOGCS[\"GCS_ETRS_1989\",DATUM[\"D_ETRS_1989\",SPHEROID[\"GRS_1980\",6378137.0,298.257222101]],PRIMEM[\"Greenwich\",0.0],UNIT[\"Degree\",0.0174532925199433]],PROJECTION[\"Transverse_Mercator\"],PARAMETER[\"false_easting\",0.0],PARAMETER[\"false_northing\",0.0],PARAMETER[\"central_meridian\",-8.133108333333334],PARAMETER[\"scale_factor\",1.0],PARAMETER[\"latitude_of_origin\",39.66825833333333],UNIT[\"Meter\",1.0]]"
 }
}
