View In:
ArcGIS JavaScript
ArcGIS Online Map Viewer
ArcGIS Earth
ArcMap
View Footprint In:
ArcGIS Online Map Viewer
Service Description: PDM
Name: PDM/PlantaOrdenamentoQualificacaoOperativa
Description: PDM
Single Fused Map Cache: false
Extent:
XMin: -16314.987396372271
YMin: 185766.77724682222
XMax: -9452.953801782045
YMax: 192959.14387873767
Spatial Reference: PROJCS["ETRS89_Portugal_TM06",GEOGCS["GCS_ETRS_1989",DATUM["D_ETRS_1989",SPHEROID["GRS_1980",6378137.0,298.257222101]],PRIMEM["Greenwich",0.0],UNIT["Degree",0.0174532925199433]],PROJECTION["Transverse_Mercator"],PARAMETER["false_easting",0.0],PARAMETER["false_northing",0.0],PARAMETER["central_meridian",-8.133108333333334],PARAMETER["scale_factor",1.0],PARAMETER["latitude_of_origin",39.66825833333333],UNIT["Meter",1.0]]
Initial Extent:
XMin: -16314.987396372271
YMin: 185766.77724682222
XMax: -9452.953801782045
YMax: 192959.14387873767
Spatial Reference: PROJCS["ETRS89_Portugal_TM06",GEOGCS["GCS_ETRS_1989",DATUM["D_ETRS_1989",SPHEROID["GRS_1980",6378137.0,298.257222101]],PRIMEM["Greenwich",0.0],UNIT["Degree",0.0174532925199433]],PROJECTION["Transverse_Mercator"],PARAMETER["false_easting",0.0],PARAMETER["false_northing",0.0],PARAMETER["central_meridian",-8.133108333333334],PARAMETER["scale_factor",1.0],PARAMETER["latitude_of_origin",39.66825833333333],UNIT["Meter",1.0]]
Full Extent:
XMin: -16314.987396372271
YMin: 185766.77724682222
XMax: -9452.953801782045
YMax: 192959.14387873767
Spatial Reference: PROJCS["ETRS89_Portugal_TM06",GEOGCS["GCS_ETRS_1989",DATUM["D_ETRS_1989",SPHEROID["GRS_1980",6378137.0,298.257222101]],PRIMEM["Greenwich",0.0],UNIT["Degree",0.0174532925199433]],PROJECTION["Transverse_Mercator"],PARAMETER["false_easting",0.0],PARAMETER["false_northing",0.0],PARAMETER["central_meridian",-8.133108333333334],PARAMETER["scale_factor",1.0],PARAMETER["latitude_of_origin",39.66825833333333],UNIT["Meter",1.0]]
Pixel Size X: 1.2705116820200382
Pixel Size Y: 1.2705116820200395
Band Count: 3
Pixel Type: U8
RasterFunction Infos: {"rasterFunctionInfos": [{
"name": "None",
"description": "",
"help": ""
}]}
Mensuration Capabilities: Basic
Has Histograms: true
Has Colormap: false
Has Multi Dimensions : false
Rendering Rule:
Min Scale: 0
Max Scale: 0
Copyright Text:
Service Data Type: esriImageServiceDataTypeRGB
Min Values: 0, 0, 0
Max Values: 255, 255, 255
Mean Values: 189.82951519654802, 181.3445567834439, 167.34571869767572
Standard Deviation Values: 95.13317896566103, 94.27734725221895, 96.50198482079337
Object ID Field:
Fields:
None
Default Mosaic Method: Center
Allowed Mosaic Methods:
SortField:
SortValue: null
Mosaic Operator: First
Default Compression Quality: 75
Default Resampling Method: Bilinear
Max Record Count: null
Max Image Height: 4100
Max Image Width: 15000
Max Download Image Count: null
Max Mosaic Image Count: null
Allow Raster Function: true
Allow Compute TiePoints: false
Supports Statistics: false
Supports Advanced Queries: false
Use StandardizedQueries: true
Raster Type Infos:
Name: Raster Dataset
Description: Supports all ArcGIS Raster Datasets
Help:
Has Raster Attribute Table: false
Edit Fields Info: null
Ownership Based AccessControl For Rasters: null
Child Resources:
Info
Histograms
Key Properties
Legend
MultiDimensionalInfo
rasterFunctionInfos
Supported Operations:
Export Image
Identify
Measure
Compute Histograms
Compute Statistics Histograms
Get Samples
Compute Class Statistics
Query Boundary