{
 "currentVersion": 10.61,
 "serviceDescription": "PDM",
 "name": "PDM/PlantaOrdenamentoQualificacaoOperativa",
 "description": "PDM",
 "extent": {
  "xmin": -16314.987396372271,
  "ymin": 185766.77724682222,
  "xmax": -9452.953801782045,
  "ymax": 192959.14387873767,
  "spatialReference": {
   "wkt": "PROJCS[\"ETRS89_Portugal_TM06\",GEOGCS[\"GCS_ETRS_1989\",DATUM[\"D_ETRS_1989\",SPHEROID[\"GRS_1980\",6378137.0,298.257222101]],PRIMEM[\"Greenwich\",0.0],UNIT[\"Degree\",0.0174532925199433]],PROJECTION[\"Transverse_Mercator\"],PARAMETER[\"false_easting\",0.0],PARAMETER[\"false_northing\",0.0],PARAMETER[\"central_meridian\",-8.133108333333334],PARAMETER[\"scale_factor\",1.0],PARAMETER[\"latitude_of_origin\",39.66825833333333],UNIT[\"Meter\",1.0]]"
  }
 },
 "initialExtent": {
  "xmin": -16314.987396372271,
  "ymin": 185766.77724682222,
  "xmax": -9452.953801782045,
  "ymax": 192959.14387873767,
  "spatialReference": {
   "wkt": "PROJCS[\"ETRS89_Portugal_TM06\",GEOGCS[\"GCS_ETRS_1989\",DATUM[\"D_ETRS_1989\",SPHEROID[\"GRS_1980\",6378137.0,298.257222101]],PRIMEM[\"Greenwich\",0.0],UNIT[\"Degree\",0.0174532925199433]],PROJECTION[\"Transverse_Mercator\"],PARAMETER[\"false_easting\",0.0],PARAMETER[\"false_northing\",0.0],PARAMETER[\"central_meridian\",-8.133108333333334],PARAMETER[\"scale_factor\",1.0],PARAMETER[\"latitude_of_origin\",39.66825833333333],UNIT[\"Meter\",1.0]]"
  }
 },
 "fullExtent": {
  "xmin": -16314.987396372271,
  "ymin": 185766.77724682222,
  "xmax": -9452.953801782045,
  "ymax": 192959.14387873767,
  "spatialReference": {
   "wkt": "PROJCS[\"ETRS89_Portugal_TM06\",GEOGCS[\"GCS_ETRS_1989\",DATUM[\"D_ETRS_1989\",SPHEROID[\"GRS_1980\",6378137.0,298.257222101]],PRIMEM[\"Greenwich\",0.0],UNIT[\"Degree\",0.0174532925199433]],PROJECTION[\"Transverse_Mercator\"],PARAMETER[\"false_easting\",0.0],PARAMETER[\"false_northing\",0.0],PARAMETER[\"central_meridian\",-8.133108333333334],PARAMETER[\"scale_factor\",1.0],PARAMETER[\"latitude_of_origin\",39.66825833333333],UNIT[\"Meter\",1.0]]"
  }
 },
 "pixelSizeX": 1.2705116820200382,
 "pixelSizeY": 1.2705116820200395,
 "bandCount": 3,
 "pixelType": "U8",
 "minPixelSize": 0,
 "maxPixelSize": 0,
 "copyrightText": "",
 "serviceDataType": "esriImageServiceDataTypeRGB",
 "minValues": [
  0,
  0,
  0
 ],
 "maxValues": [
  255,
  255,
  255
 ],
 "meanValues": [
  189.82951519654802,
  181.3445567834439,
  167.34571869767572
 ],
 "stdvValues": [
  95.13317896566103,
  94.27734725221895,
  96.50198482079337
 ],
 "objectIdField": "",
 "fields": [],
 "capabilities": "Image,Metadata,Mensuration",
 "defaultMosaicMethod": "Center",
 "allowedMosaicMethods": "",
 "sortField": "",
 "sortValue": null,
 "mosaicOperator": "First",
 "defaultCompressionQuality": 75,
 "defaultResamplingMethod": "Bilinear",
 "maxImageHeight": 4100,
 "maxImageWidth": 15000,
 "allowRasterFunction": true,
 "rasterFunctionInfos": [
  {
   "name": "None",
   "description": "",
   "help": ""
  }
 ],
 "rasterTypeInfos": [
  {
   "name": "Raster Dataset",
   "description": "Supports all ArcGIS Raster Datasets",
   "help": ""
  }
 ],
 "mensurationCapabilities": "Basic",
 "hasHistograms": true,
 "hasColormap": false,
 "hasRasterAttributeTable": false,
 "minScale": 0,
 "maxScale": 0,
 "exportTilesAllowed": false,
 "hasMultidimensions": false,
 "supportsStatistics": false,
 "supportsAdvancedQueries": false,
 "editFieldsInfo": null,
 "ownershipBasedAccessControlForRasters": null,
 "allowComputeTiePoints": false,
 "useStandardizedQueries": true,
 "advancedQueryCapabilities": {
  "useStandardizedQueries": true,
  "supportsStatistics": false,
  "supportsOrderBy": false,
  "supportsDistinct": false,
  "supportsPagination": false
 },
 "spatialReference": {
  "wkt": "PROJCS[\"ETRS89_Portugal_TM06\",GEOGCS[\"GCS_ETRS_1989\",DATUM[\"D_ETRS_1989\",SPHEROID[\"GRS_1980\",6378137.0,298.257222101]],PRIMEM[\"Greenwich\",0.0],UNIT[\"Degree\",0.0174532925199433]],PROJECTION[\"Transverse_Mercator\"],PARAMETER[\"false_easting\",0.0],PARAMETER[\"false_northing\",0.0],PARAMETER[\"central_meridian\",-8.133108333333334],PARAMETER[\"scale_factor\",1.0],PARAMETER[\"latitude_of_origin\",39.66825833333333],UNIT[\"Meter\",1.0]]"
 }
}
