View In:
ArcGIS JavaScript
ArcGIS Online Map Viewer
ArcGIS Earth
ArcMap
View Footprint In:
ArcGIS Online Map Viewer
Service Description: Ortofotomapas 2018 - MunicĂpia
Name: Rasters/Ortofotomapas_2018
Description: Ortofotomapas 2018 - MunicĂpia
Single Fused Map Cache: false
Extent:
XMin: -20000.072912000676
YMin: 184999.75637000537
XMax: -4999.772912000679
YMax: 194999.95637000538
Spatial Reference: 3763
(3763)
Initial Extent:
XMin: -20000.072912000676
YMin: 184999.75637000537
XMax: -4999.772912000679
YMax: 194999.95637000538
Spatial Reference: 3763
(3763)
Full Extent:
XMin: -20000.072912000676
YMin: 184999.75637000537
XMax: -4999.772912000679
YMax: 194999.95637000538
Spatial Reference: 3763
(3763)
Pixel Size X: 0.29999999999999993
Pixel Size Y: 0.3000000000000003
Band Count: 3
Pixel Type: U8
RasterFunction Infos: {"rasterFunctionInfos": [{
"name": "None",
"description": "",
"help": ""
}]}
Mensuration Capabilities: Basic
Has Histograms: true
Has Colormap: false
Has Multi Dimensions : false
Rendering Rule:
Min Scale: 0
Max Scale: 0
Copyright Text:
Service Data Type: esriImageServiceDataTypeRGB
Min Values: 0, 0, 0
Max Values: 255, 255, 255
Mean Values: 104.3392866647977, 102.15047411117537, 93.24936397834112
Standard Deviation Values: 55.8263527151671, 47.483947892670045, 41.02023811897615
Object ID Field:
Fields:
None
Default Mosaic Method: Center
Allowed Mosaic Methods:
SortField:
SortValue: null
Mosaic Operator: First
Default Compression Quality: 75
Default Resampling Method: Bilinear
Max Record Count: null
Max Image Height: 4100
Max Image Width: 15000
Max Download Image Count: null
Max Mosaic Image Count: null
Allow Raster Function: true
Allow Compute TiePoints: false
Supports Statistics: false
Supports Advanced Queries: false
Use StandardizedQueries: true
Raster Type Infos:
Name: Raster Dataset
Description: Supports all ArcGIS Raster Datasets
Help:
Has Raster Attribute Table: false
Edit Fields Info: null
Ownership Based AccessControl For Rasters: null
Child Resources:
Info
Histograms
Key Properties
Legend
MultiDimensionalInfo
rasterFunctionInfos
Supported Operations:
Export Image
Identify
Measure
Compute Histograms
Compute Statistics Histograms
Get Samples
Compute Class Statistics
Query Boundary