View In:
ArcGIS JavaScript
ArcGIS Online Map Viewer
ArcGIS Earth
ArcMap
View Footprint In:
ArcGIS Online Map Viewer
Service Description: Rasters
Name: Rasters/CartasMilitares
Description: Rasters
Single Fused Map Cache: false
Extent:
XMin: -32002.472912000492
YMin: 179999.45637001097
XMax: 0.027087999507784843
YMax: 200001.95637001097
Spatial Reference: 3763
(3763)
Initial Extent:
XMin: -32002.472912000492
YMin: 179999.45637001097
XMax: 0.027087999507784843
YMax: 200001.95637001097
Spatial Reference: 3763
(3763)
Full Extent:
XMin: -32002.472912000492
YMin: 179999.45637001097
XMax: 0.027087999507784843
YMax: 200001.95637001097
Spatial Reference: 3763
(3763)
Pixel Size X: 2.5
Pixel Size Y: 2.5
Band Count: 3
Pixel Type: U8
RasterFunction Infos: {"rasterFunctionInfos": [{
"name": "None",
"description": "",
"help": ""
}]}
Mensuration Capabilities: Basic
Has Histograms: true
Has Colormap: false
Has Multi Dimensions : false
Rendering Rule:
Min Scale: 0
Max Scale: 0
Copyright Text:
Service Data Type: esriImageServiceDataTypeRGB
Min Values: 0, 0, 0
Max Values: 255, 255, 255
Mean Values: 208.87691293295, 206.0639602301099, 197.9219303508474
Standard Deviation Values: 54.42413354306575, 59.232800454780346, 60.205824460266754
Object ID Field:
Fields:
None
Default Mosaic Method: Center
Allowed Mosaic Methods:
SortField:
SortValue: null
Mosaic Operator: First
Default Compression Quality: 75
Default Resampling Method: Bilinear
Max Record Count: null
Max Image Height: 4100
Max Image Width: 15000
Max Download Image Count: null
Max Mosaic Image Count: null
Allow Raster Function: true
Allow Compute TiePoints: false
Supports Statistics: false
Supports Advanced Queries: false
Use StandardizedQueries: true
Raster Type Infos:
Name: Raster Dataset
Description: Supports all ArcGIS Raster Datasets
Help:
Has Raster Attribute Table: false
Edit Fields Info: null
Ownership Based AccessControl For Rasters: null
Child Resources:
Info
Histograms
Key Properties
Legend
MultiDimensionalInfo
rasterFunctionInfos
Supported Operations:
Export Image
Identify
Measure
Compute Histograms
Compute Statistics Histograms
Get Samples
Compute Class Statistics
Query Boundary