View In:
ArcGIS JavaScript
ArcGIS Online Map Viewer
ArcGIS Earth
ArcMap
View Footprint In:
ArcGIS Online Map Viewer
Service Description: PDM
Name: PDM/PlantaOrdenamentoQualificacaoFuncional
Description: PDM
Single Fused Map Cache: false
Extent:
XMin: -16315.127955050464
YMin: 185766.4186038189
XMax: -9453.36451519408
YMax: 192958.44092822963
Spatial Reference: PROJCS["ETRS89_Portugal_TM06",GEOGCS["GCS_ETRS_1989",DATUM["D_ETRS_1989",SPHEROID["GRS_1980",6378137.0,298.257222101]],PRIMEM["Greenwich",0.0],UNIT["Degree",0.0174532925199433]],PROJECTION["Transverse_Mercator"],PARAMETER["false_easting",0.0],PARAMETER["false_northing",0.0],PARAMETER["central_meridian",-8.133108333333334],PARAMETER["scale_factor",1.0],PARAMETER["latitude_of_origin",39.66825833333333],UNIT["Meter",1.0]]
Initial Extent:
XMin: -16315.127955050464
YMin: 185766.4186038189
XMax: -9453.36451519408
YMax: 192958.44092822963
Spatial Reference: PROJCS["ETRS89_Portugal_TM06",GEOGCS["GCS_ETRS_1989",DATUM["D_ETRS_1989",SPHEROID["GRS_1980",6378137.0,298.257222101]],PRIMEM["Greenwich",0.0],UNIT["Degree",0.0174532925199433]],PROJECTION["Transverse_Mercator"],PARAMETER["false_easting",0.0],PARAMETER["false_northing",0.0],PARAMETER["central_meridian",-8.133108333333334],PARAMETER["scale_factor",1.0],PARAMETER["latitude_of_origin",39.66825833333333],UNIT["Meter",1.0]]
Full Extent:
XMin: -16315.127955050464
YMin: 185766.4186038189
XMax: -9453.36451519408
YMax: 192958.44092822963
Spatial Reference: PROJCS["ETRS89_Portugal_TM06",GEOGCS["GCS_ETRS_1989",DATUM["D_ETRS_1989",SPHEROID["GRS_1980",6378137.0,298.257222101]],PRIMEM["Greenwich",0.0],UNIT["Degree",0.0174532925199433]],PROJECTION["Transverse_Mercator"],PARAMETER["false_easting",0.0],PARAMETER["false_northing",0.0],PARAMETER["central_meridian",-8.133108333333334],PARAMETER["scale_factor",1.0],PARAMETER["latitude_of_origin",39.66825833333333],UNIT["Meter",1.0]]
Pixel Size X: 1.2702264790552358
Pixel Size Y: 1.2702264790552336
Band Count: 3
Pixel Type: U8
RasterFunction Infos: {"rasterFunctionInfos": [{
"name": "None",
"description": "",
"help": ""
}]}
Mensuration Capabilities: Basic
Has Histograms: true
Has Colormap: false
Has Multi Dimensions : false
Rendering Rule:
Min Scale: 0
Max Scale: 0
Copyright Text:
Service Data Type: esriImageServiceDataTypeRGB
Min Values: 0, 0, 0
Max Values: 255, 255, 255
Mean Values: 127.01507548948452, 149.38008411601425, 96.56592426031018
Standard Deviation Values: 76.76011725583274, 82.908024864708, 65.21798199984012
Object ID Field:
Fields:
None
Default Mosaic Method: Center
Allowed Mosaic Methods:
SortField:
SortValue: null
Mosaic Operator: First
Default Compression Quality: 75
Default Resampling Method: Bilinear
Max Record Count: null
Max Image Height: 4100
Max Image Width: 15000
Max Download Image Count: null
Max Mosaic Image Count: null
Allow Raster Function: true
Allow Compute TiePoints: false
Supports Statistics: false
Supports Advanced Queries: false
Use StandardizedQueries: true
Raster Type Infos:
Name: Raster Dataset
Description: Supports all ArcGIS Raster Datasets
Help:
Has Raster Attribute Table: false
Edit Fields Info: null
Ownership Based AccessControl For Rasters: null
Child Resources:
Info
Histograms
Key Properties
Legend
MultiDimensionalInfo
rasterFunctionInfos
Supported Operations:
Export Image
Identify
Measure
Compute Histograms
Compute Statistics Histograms
Get Samples
Compute Class Statistics
Query Boundary