{
 "currentVersion": 10.61,
 "serviceDescription": "Rasters",
 "name": "Rasters/Ortos_DGRF",
 "description": "Rasters",
 "extent": {
  "xmin": -19999.882733162493,
  "ymin": 184999.8758324422,
  "xmax": -7999.8827331624925,
  "ymax": 194999.8758324422,
  "spatialReference": {
   "wkid": 102161,
   "latestWkid": 102161
  }
 },
 "initialExtent": {
  "xmin": -19999.882733162493,
  "ymin": 184999.8758324422,
  "xmax": -7999.8827331624925,
  "ymax": 194999.8758324422,
  "spatialReference": {
   "wkid": 102161,
   "latestWkid": 102161
  }
 },
 "fullExtent": {
  "xmin": -19999.882733162493,
  "ymin": 184999.8758324422,
  "xmax": -7999.8827331624925,
  "ymax": 194999.8758324422,
  "spatialReference": {
   "wkid": 102161,
   "latestWkid": 102161
  }
 },
 "pixelSizeX": 0.5,
 "pixelSizeY": 0.5,
 "bandCount": 4,
 "pixelType": "U8",
 "minPixelSize": 0,
 "maxPixelSize": 0,
 "copyrightText": "",
 "serviceDataType": "esriImageServiceDataTypeGeneric",
 "minValues": [],
 "maxValues": [],
 "meanValues": [],
 "stdvValues": [],
 "objectIdField": "",
 "fields": [],
 "capabilities": "Image,Metadata,Mensuration",
 "defaultMosaicMethod": "Center",
 "allowedMosaicMethods": "",
 "sortField": "",
 "sortValue": null,
 "mosaicOperator": "First",
 "defaultCompressionQuality": 75,
 "defaultResamplingMethod": "Bilinear",
 "maxImageHeight": 4100,
 "maxImageWidth": 15000,
 "allowRasterFunction": true,
 "rasterFunctionInfos": [
  {
   "name": "None",
   "description": "",
   "help": ""
  }
 ],
 "rasterTypeInfos": [
  {
   "name": "Raster Dataset",
   "description": "Supports all ArcGIS Raster Datasets",
   "help": ""
  }
 ],
 "mensurationCapabilities": "Basic",
 "hasHistograms": false,
 "hasColormap": false,
 "hasRasterAttributeTable": false,
 "minScale": 0,
 "maxScale": 0,
 "exportTilesAllowed": false,
 "hasMultidimensions": false,
 "supportsStatistics": false,
 "supportsAdvancedQueries": false,
 "editFieldsInfo": null,
 "ownershipBasedAccessControlForRasters": null,
 "allowComputeTiePoints": false,
 "useStandardizedQueries": true,
 "advancedQueryCapabilities": {
  "useStandardizedQueries": true,
  "supportsStatistics": false,
  "supportsOrderBy": false,
  "supportsDistinct": false,
  "supportsPagination": false
 },
 "spatialReference": {
  "wkid": 102161,
  "latestWkid": 102161
 }
}
